BEGIN:VCALENDAR
VERSION:2.0
PRODID:-//NC Science Olympiad - ECPv6.15.20//NONSGML v1.0//EN
CALSCALE:GREGORIAN
METHOD:PUBLISH
X-WR-CALNAME:NC Science Olympiad
X-ORIGINAL-URL:https://ncscienceolympiad.ncsu.edu
X-WR-CALDESC:Events for NC Science Olympiad
REFRESH-INTERVAL;VALUE=DURATION:PT1H
X-Robots-Tag:noindex
X-PUBLISHED-TTL:PT1H
BEGIN:VTIMEZONE
TZID:UTC
BEGIN:STANDARD
TZOFFSETFROM:+0000
TZOFFSETTO:+0000
TZNAME:UTC
DTSTART:20250101T000000
END:STANDARD
END:VTIMEZONE
BEGIN:VEVENT
DTSTART;TZID=UTC:20260314T073000
DTEND;TZID=UTC:20260314T163000
DTSTAMP:20260422T145118
CREATED:20231208T020530Z
LAST-MODIFIED:20260223T152350Z
UID:20209-1773473400-1773505800@ncscienceolympiad.ncsu.edu
SUMMARY:Hickory Div. B/C Regional Tournament
DESCRIPTION:Regional Director(s)\nKimberly Turk; kqkturk@gmail.com \nTournament Capacity\nDivision B Teams: 12 \nDivision C Teams: 12 \nSchedule\n2026 Hickory Schedule \nVolunteer Opportunity\n\nVolunteer Sign Up Link
URL:https://ncscienceolympiad.ncsu.edu/event/hickory-regional-tournament/
LOCATION:Catawba Valley\, 2550 US Hwy 70 SE\, Hickory\, 28602\, United States
CATEGORIES:Family Friendly,Regional Tournament
ORGANIZER;CN="North Carolina Science Olympiad":MAILTO:ncscienceolympiad@ncsu.edu
END:VEVENT
BEGIN:VEVENT
DTSTART;TZID=UTC:20260314T073000
DTEND;TZID=UTC:20260314T163000
DTSTAMP:20260422T145118
CREATED:20251212T152307Z
LAST-MODIFIED:20260313T045629Z
UID:23688-1773473400-1773505800@ncscienceolympiad.ncsu.edu
SUMMARY:Chatham Div A Regional Tournament
DESCRIPTION:Regional Director(s)\nKristin Russell; krussellstem@gmail.com \nTournament Capacity\nDivision A Teams: 30 \nSchedule\nChatham A Tournament Schedule \nSeaforth High School Campus Map \nVolunteer Opportunity\n\nEvent Leader Sign Up\nVolunteer Sign Up
URL:https://ncscienceolympiad.ncsu.edu/event/chatham-div-a-regional-tournament/
LOCATION:Seaforth High School
CATEGORIES:Family Friendly,Regional Tournament
ORGANIZER;CN="North Carolina Science Olympiad":MAILTO:ncscienceolympiad@ncsu.edu
END:VEVENT
END:VCALENDAR