BEGIN:VCALENDAR
VERSION:2.0
PRODID:-//NC Science Olympiad - ECPv6.15.20//NONSGML v1.0//EN
CALSCALE:GREGORIAN
METHOD:PUBLISH
X-WR-CALNAME:NC Science Olympiad
X-ORIGINAL-URL:https://ncscienceolympiad.ncsu.edu
X-WR-CALDESC:Events for NC Science Olympiad
REFRESH-INTERVAL;VALUE=DURATION:PT1H
X-Robots-Tag:noindex
X-PUBLISHED-TTL:PT1H
BEGIN:VTIMEZONE
TZID:UTC
BEGIN:STANDARD
TZOFFSETFROM:+0000
TZOFFSETTO:+0000
TZNAME:UTC
DTSTART:20250101T000000
END:STANDARD
END:VTIMEZONE
BEGIN:VEVENT
DTSTART;VALUE=DATE:20260417
DTEND;VALUE=DATE:20260419
DTSTAMP:20260423T213736
CREATED:20231208T021247Z
LAST-MODIFIED:20260227T170708Z
UID:20222-1776384000-1776556799@ncscienceolympiad.ncsu.edu
SUMMARY:State Tournament
DESCRIPTION:Tournament Date\n\n\n\nApril 17-18\, 2026 \n\n\n\nState Director\n\n\n\nLisa Giacomelli; lgiacom@ncsu.edu \n\n\n\nLocation\n\n\n\nNC State University \n\n\n\nVolunteer\n\n\n\nApril 17-18\, 2026 – State Tournament – General Volunteer Sign UpApril 17-18\, 2026 – State Tournament – Event Volunteer Sign Up \n\n\n\nSTEM Expo\n\n\n\n \nAny organization looking to reach middle and high school students should consider participating in our STEM Expo! \n\n\n \nClick here to register your group. \n\n\nSchedules\n\n\n\n2026 State Tournament Schedule – Saturday \n\n\n\nState Qualifiers & Team Numbers\n\n\n\nComing Soon \n\nVolunteer Opportunity\n\nComing Soon
URL:https://ncscienceolympiad.ncsu.edu/event/raleigh-regional-tournament-2/
LOCATION:NC State\, 2610 Cates Ave\, Raleigh\, 27695\, United States
CATEGORIES:Family Friendly,Regional Tournament
ATTACH;FMTTYPE=image/jpeg:https://ncscienceolympiad.ncsu.edu/wp-content/uploads/2025/03/ncso-03286-scaled.jpg
ORGANIZER;CN="North Carolina Science Olympiad":MAILTO:ncscienceolympiad@ncsu.edu
END:VEVENT
END:VCALENDAR