BEGIN:VCALENDAR
VERSION:2.0
PRODID:-//NC Science Olympiad - ECPv6.15.20//NONSGML v1.0//EN
CALSCALE:GREGORIAN
METHOD:PUBLISH
X-WR-CALNAME:NC Science Olympiad
X-ORIGINAL-URL:https://ncscienceolympiad.ncsu.edu
X-WR-CALDESC:Events for NC Science Olympiad
REFRESH-INTERVAL;VALUE=DURATION:PT1H
X-Robots-Tag:noindex
X-PUBLISHED-TTL:PT1H
BEGIN:VTIMEZONE
TZID:UTC
BEGIN:STANDARD
TZOFFSETFROM:+0000
TZOFFSETTO:+0000
TZNAME:UTC
DTSTART:20250101T000000
END:STANDARD
END:VTIMEZONE
BEGIN:VEVENT
DTSTART;TZID=UTC:20260425T073000
DTEND;TZID=UTC:20260425T163000
DTSTAMP:20260423T005357
CREATED:20231209T224042Z
LAST-MODIFIED:20251213T003824Z
UID:20265-1777102200-1777134600@ncscienceolympiad.ncsu.edu
SUMMARY:Brunswick County Div A Regional Tournament
DESCRIPTION:Regional Director(s)\nDaniel Richardson; drichardson@bcswan.net \nTournament Capacity\nDivision A Teams: 20 \nSchedule\nComing Soon \nVolunteer Opportunity\n\nComing Soon
URL:https://ncscienceolympiad.ncsu.edu/event/brunswick-county-div-a-regional-tournament/
LOCATION:Shallotte Middle School\, 225 Village Rd SW\,\, Shallotte\, 28470\, United States
CATEGORIES:Division A (Elementary),Family Friendly,Regional Tournament
ORGANIZER;CN="North Carolina Science Olympiad":MAILTO:ncscienceolympiad@ncsu.edu
END:VEVENT
BEGIN:VEVENT
DTSTART;TZID=UTC:20260425T073000
DTEND;TZID=UTC:20260425T163000
DTSTAMP:20260423T005357
CREATED:20231210T161803Z
LAST-MODIFIED:20251213T003921Z
UID:20271-1777102200-1777134600@ncscienceolympiad.ncsu.edu
SUMMARY:Mecklenburg County Div A Regional Tournament
DESCRIPTION:Regional Director(s)\nAmy Crawford; amy@crawfordsix.com \nTournament Capacity\nDivision A Teams: 25 \nSchedule\nComing Soon \nVolunteer Opportunity\n\nComing Soon
URL:https://ncscienceolympiad.ncsu.edu/event/mecklenburg-county-div-a-regional-tournament/
LOCATION:Governor’s Village STEM Academy\, 7910 Neal Rd\, Charlotte\, NC\, 28262\, United States
CATEGORIES:Division A (Elementary),Family Friendly,Regional Tournament
ORGANIZER;CN="North Carolina Science Olympiad":MAILTO:ncscienceolympiad@ncsu.edu
END:VEVENT
BEGIN:VEVENT
DTSTART;TZID=UTC:20260425T073000
DTEND;TZID=UTC:20260425T163000
DTSTAMP:20260423T005357
CREATED:20251212T153233Z
LAST-MODIFIED:20251220T211018Z
UID:23691-1777102200-1777134600@ncscienceolympiad.ncsu.edu
SUMMARY:Guilford County Div A Regional Tournament
DESCRIPTION:Regional Director(s)\nLisa Giacomelli; lgiacom@ncsu.edu  \nKarl Leonhardt; karlleonhardt@greensboroday.org \nTournament Capacity\nDivision A Teams: 20 \nSchedule\n2026 Guilford A Regional Tournament Master Schedule \nVolunteer Opportunity\n\nEvent Leader Sign Up\nVolunteer Sign Up
URL:https://ncscienceolympiad.ncsu.edu/event/guilford-county-div-a-regional-tournament/
LOCATION:Greensboro Day School\, 5401 Lawndale Dr\, Greensboro\, NC\, 27455\, United States
CATEGORIES:Division A (Elementary),Family Friendly,Regional Tournament
ORGANIZER;CN="North Carolina Science Olympiad":MAILTO:ncscienceolympiad@ncsu.edu
END:VEVENT
END:VCALENDAR