BEGIN:VCALENDAR
VERSION:2.0
PRODID:-//NC Science Olympiad - ECPv6.15.20//NONSGML v1.0//EN
CALSCALE:GREGORIAN
METHOD:PUBLISH
X-WR-CALNAME:NC Science Olympiad
X-ORIGINAL-URL:https://ncscienceolympiad.ncsu.edu
X-WR-CALDESC:Events for NC Science Olympiad
REFRESH-INTERVAL;VALUE=DURATION:PT1H
X-Robots-Tag:noindex
X-PUBLISHED-TTL:PT1H
BEGIN:VTIMEZONE
TZID:UTC
BEGIN:STANDARD
TZOFFSETFROM:+0000
TZOFFSETTO:+0000
TZNAME:UTC
DTSTART:20230101T000000
END:STANDARD
END:VTIMEZONE
BEGIN:VEVENT
DTSTART;VALUE=DATE:20241018
DTEND;VALUE=DATE:20241020
DTSTAMP:20260420T001519
CREATED:20230817T180414Z
LAST-MODIFIED:20240918T205520Z
UID:19405-1729209600-1729382399@ncscienceolympiad.ncsu.edu
SUMMARY:2024 Coaches Conference
DESCRIPTION:We are thrilled to extend a special invitation to the highly anticipated Coaches Conference\, where excellence in science education takes center stage. Join us on October 18-19\, 2024 at McKimmon Conference and Training Center at NC State for two days of inspiration\, collaboration\, and professional growth.\nPS: Participants will receive CEUs for attending\nRegister Here!\n \nHere’s what you can expect at the conference:\n1️⃣Coaches Challenge:\nAre you ready to take your coaching skills to the next level? We’ve got an exciting opportunity for you to do just that – the Coaches Challenge! This hands-on mini competition is a fun and interactive way to learn about different events and win amazing prizes. On Saturday\, you can drop by and compete between your regular session times. It’s the perfect chance to put your coaching expertise to the test and have a blast in the process. Coaches will have a chance to win event materials\, team registration\, lab supplies and more! These prizes are designed to help you and your team succeed\, so don’t miss out! \n2️⃣Networking Opportunities: \nConnect with fellow coaches and teachers who share your passion for excellence in science education. Engage in meaningful discussions\, exchange ideas\, and forge valuable connections that will enhance your teaching journey. \n3️⃣ Interactive Sessions: \nParticipate in hands-on learning session led by expert Science Olympiad Event Leaders\, where you can learn new strategies and techniques to enhance your coaching skills. Discover innovative approaches that will empower you to guide your students towards success in Science Olympiad competitions. \n4️⃣ Resourceful Exhibitors: \nExplore a diverse range of exhibitors showcasing cutting-edge resources\, materials\, and technologies specifically tailored for science teachers. Discover tools that can enrich your teaching experience and propel your students’ achievements. \n5️⃣ Shop Custom Event Supplies: \nOur on-site shop will include one of a kind Science Olympiad supplies tailored to specific events. We will be selling everything from plane kits\, sample tests\, build event equipment and more! \n\n\n\n\n\n\n\n\n\n\n\n\n\n\n\n\n\n\n\n\n\n\n\n\n\n\n\n\n\n\n\n\n\n\n\n\n\n\nDon’t miss out on this fantastic opportunity to enhance your teaching skills and take your STEM education journey to new heights. Mark your calendar for October 18-19\, 2024 and secure your spot at the 2023 Coaches Conference today!\nWe can’t wait to welcome you to the 2024 Coaches Conference and witness the positive impact it will have on your STEM teaching. See you this fall!\nVolunteer Sign-Up
URL:https://ncscienceolympiad.ncsu.edu/event/2024-coaches-conference/
LOCATION:McKimmon Center\, 1101 Gorman St\,\, Raleigh\, NC\, 27606\, United States
CATEGORIES:Coaches,Professional Development
ORGANIZER;CN="North Carolina Science Olympiad":MAILTO:ncscienceolympiad@ncsu.edu
END:VEVENT
END:VCALENDAR